BEGIN:VCALENDAR
VERSION:2.0
PRODID:-//Antioch Church - ECPv6.15.1.1//NONSGML v1.0//EN
CALSCALE:GREGORIAN
METHOD:PUBLISH
X-WR-CALNAME:Antioch Church
X-ORIGINAL-URL:https://antiochchurchva.com
X-WR-CALDESC:Events for Antioch Church
REFRESH-INTERVAL;VALUE=DURATION:PT1H
X-Robots-Tag:noindex
X-PUBLISHED-TTL:PT1H
BEGIN:VTIMEZONE
TZID:America/New_York
BEGIN:DAYLIGHT
TZOFFSETFROM:-0500
TZOFFSETTO:-0400
TZNAME:EDT
DTSTART:20190310T070000
END:DAYLIGHT
BEGIN:STANDARD
TZOFFSETFROM:-0400
TZOFFSETTO:-0500
TZNAME:EST
DTSTART:20191103T060000
END:STANDARD
END:VTIMEZONE
BEGIN:VEVENT
DTSTART;TZID=America/New_York:20191230T190000
DTEND;TZID=America/New_York:20191230T200000
DTSTAMP:20260424T184330
CREATED:20191220T152811Z
LAST-MODIFIED:20191220T152811Z
UID:718-1577732400-1577736000@antiochchurchva.com
SUMMARY:Choir Practice
DESCRIPTION:
URL:https://antiochchurchva.com/calendar/choir-practice-2/
LOCATION:Antioch Church\, 23011 Antioch Road\, Windsor\, Virgina\, 23487
CATEGORIES:Choir Practice
ORGANIZER;CN="Fuzzy Johnson":MAILTO:wjohnson66@verizon.net
END:VEVENT
BEGIN:VEVENT
DTSTART;TZID=America/New_York:20191218T190000
DTEND;TZID=America/New_York:20191218T200000
DTSTAMP:20260424T184330
CREATED:20191218T145214Z
LAST-MODIFIED:20200315T190728Z
UID:311-1576695600-1576699200@antiochchurchva.com
SUMMARY:Choir Practice
DESCRIPTION:If you’re interested in joining the choir\, please let Fuzzy know. His contact information will be provided below. If you’d like to watch our choir practice Monday evenings\, feel free to join us at 7PM!
URL:https://antiochchurchva.com/calendar/choir-practice/
CATEGORIES:Choir Practice
ORGANIZER;CN="Antioch Church":MAILTO:info@antiochchurchva.com
END:VEVENT
END:VCALENDAR