BEGIN:VCALENDAR
VERSION:2.0
PRODID:-//Antioch Church - ECPv6.15.1.1//NONSGML v1.0//EN
CALSCALE:GREGORIAN
METHOD:PUBLISH
X-WR-CALNAME:Antioch Church
X-ORIGINAL-URL:https://antiochchurchva.com
X-WR-CALDESC:Events for Antioch Church
REFRESH-INTERVAL;VALUE=DURATION:PT1H
X-Robots-Tag:noindex
X-PUBLISHED-TTL:PT1H
BEGIN:VTIMEZONE
TZID:America/New_York
BEGIN:DAYLIGHT
TZOFFSETFROM:-0500
TZOFFSETTO:-0400
TZNAME:EDT
DTSTART:20260308T070000
END:DAYLIGHT
BEGIN:STANDARD
TZOFFSETFROM:-0400
TZOFFSETTO:-0500
TZNAME:EST
DTSTART:20261101T060000
END:STANDARD
END:VTIMEZONE
BEGIN:VEVENT
DTSTART;TZID=America/New_York:20260413T190000
DTEND;TZID=America/New_York:20260413T200000
DTSTAMP:20260423T141451
CREATED:20191218T145214Z
LAST-MODIFIED:20191218T145214Z
UID:1770-1776106800-1776110400@antiochchurchva.com
SUMMARY:Choir Practice
DESCRIPTION:If you’re interested in joining the choir\, please let Fuzzy know. His contact information will be provided below. If you’d like to watch our choir practice Monday evenings\, feel free to join us at 7PM!
URL:https://antiochchurchva.com/calendar/choir-practice-2026-04-13/
CATEGORIES:Choir Practice
ORGANIZER;CN="Antioch Church":MAILTO:info@antiochchurchva.com
END:VEVENT
BEGIN:VEVENT
DTSTART;TZID=America/New_York:20260420T190000
DTEND;TZID=America/New_York:20260420T200000
DTSTAMP:20260423T141451
CREATED:20191218T145214Z
LAST-MODIFIED:20191218T145214Z
UID:1771-1776711600-1776715200@antiochchurchva.com
SUMMARY:Choir Practice
DESCRIPTION:If you’re interested in joining the choir\, please let Fuzzy know. His contact information will be provided below. If you’d like to watch our choir practice Monday evenings\, feel free to join us at 7PM!
URL:https://antiochchurchva.com/calendar/choir-practice-2026-04-20/
CATEGORIES:Choir Practice
ORGANIZER;CN="Antioch Church":MAILTO:info@antiochchurchva.com
END:VEVENT
BEGIN:VEVENT
DTSTART;TZID=America/New_York:20260427T190000
DTEND;TZID=America/New_York:20260427T200000
DTSTAMP:20260423T141451
CREATED:20191218T145214Z
LAST-MODIFIED:20191218T145214Z
UID:1772-1777316400-1777320000@antiochchurchva.com
SUMMARY:Choir Practice
DESCRIPTION:If you’re interested in joining the choir\, please let Fuzzy know. His contact information will be provided below. If you’d like to watch our choir practice Monday evenings\, feel free to join us at 7PM!
URL:https://antiochchurchva.com/calendar/choir-practice-2026-04-27/
CATEGORIES:Choir Practice
ORGANIZER;CN="Antioch Church":MAILTO:info@antiochchurchva.com
END:VEVENT
BEGIN:VEVENT
DTSTART;TZID=America/New_York:20260504T190000
DTEND;TZID=America/New_York:20260504T200000
DTSTAMP:20260423T141451
CREATED:20191218T145214Z
LAST-MODIFIED:20191218T145214Z
UID:1773-1777921200-1777924800@antiochchurchva.com
SUMMARY:Choir Practice
DESCRIPTION:If you’re interested in joining the choir\, please let Fuzzy know. His contact information will be provided below. If you’d like to watch our choir practice Monday evenings\, feel free to join us at 7PM!
URL:https://antiochchurchva.com/calendar/choir-practice-2026-05-04/
CATEGORIES:Choir Practice
ORGANIZER;CN="Antioch Church":MAILTO:info@antiochchurchva.com
END:VEVENT
BEGIN:VEVENT
DTSTART;TZID=America/New_York:20260511T190000
DTEND;TZID=America/New_York:20260511T200000
DTSTAMP:20260423T141451
CREATED:20191218T145214Z
LAST-MODIFIED:20191218T145214Z
UID:1775-1778526000-1778529600@antiochchurchva.com
SUMMARY:Choir Practice
DESCRIPTION:If you’re interested in joining the choir\, please let Fuzzy know. His contact information will be provided below. If you’d like to watch our choir practice Monday evenings\, feel free to join us at 7PM!
URL:https://antiochchurchva.com/calendar/choir-practice-2026-05-11/
CATEGORIES:Choir Practice
ORGANIZER;CN="Antioch Church":MAILTO:info@antiochchurchva.com
END:VEVENT
BEGIN:VEVENT
DTSTART;TZID=America/New_York:20260518T190000
DTEND;TZID=America/New_York:20260518T200000
DTSTAMP:20260423T141451
CREATED:20191218T145214Z
LAST-MODIFIED:20191218T145214Z
UID:1776-1779130800-1779134400@antiochchurchva.com
SUMMARY:Choir Practice
DESCRIPTION:If you’re interested in joining the choir\, please let Fuzzy know. His contact information will be provided below. If you’d like to watch our choir practice Monday evenings\, feel free to join us at 7PM!
URL:https://antiochchurchva.com/calendar/choir-practice-2026-05-18/
CATEGORIES:Choir Practice
ORGANIZER;CN="Antioch Church":MAILTO:info@antiochchurchva.com
END:VEVENT
BEGIN:VEVENT
DTSTART;TZID=America/New_York:20260525T190000
DTEND;TZID=America/New_York:20260525T200000
DTSTAMP:20260423T141451
CREATED:20191218T145214Z
LAST-MODIFIED:20191218T145214Z
UID:1777-1779735600-1779739200@antiochchurchva.com
SUMMARY:Choir Practice
DESCRIPTION:If you’re interested in joining the choir\, please let Fuzzy know. His contact information will be provided below. If you’d like to watch our choir practice Monday evenings\, feel free to join us at 7PM!
URL:https://antiochchurchva.com/calendar/choir-practice-2026-05-25/
CATEGORIES:Choir Practice
ORGANIZER;CN="Antioch Church":MAILTO:info@antiochchurchva.com
END:VEVENT
BEGIN:VEVENT
DTSTART;TZID=America/New_York:20260601T190000
DTEND;TZID=America/New_York:20260601T200000
DTSTAMP:20260423T141451
CREATED:20191218T145214Z
LAST-MODIFIED:20191218T145214Z
UID:1778-1780340400-1780344000@antiochchurchva.com
SUMMARY:Choir Practice
DESCRIPTION:If you’re interested in joining the choir\, please let Fuzzy know. His contact information will be provided below. If you’d like to watch our choir practice Monday evenings\, feel free to join us at 7PM!
URL:https://antiochchurchva.com/calendar/choir-practice-2026-06-01/
CATEGORIES:Choir Practice
ORGANIZER;CN="Antioch Church":MAILTO:info@antiochchurchva.com
END:VEVENT
BEGIN:VEVENT
DTSTART;TZID=America/New_York:20260608T190000
DTEND;TZID=America/New_York:20260608T200000
DTSTAMP:20260423T141451
CREATED:20191218T145214Z
LAST-MODIFIED:20191218T145214Z
UID:1779-1780945200-1780948800@antiochchurchva.com
SUMMARY:Choir Practice
DESCRIPTION:If you’re interested in joining the choir\, please let Fuzzy know. His contact information will be provided below. If you’d like to watch our choir practice Monday evenings\, feel free to join us at 7PM!
URL:https://antiochchurchva.com/calendar/choir-practice-2026-06-08/
CATEGORIES:Choir Practice
ORGANIZER;CN="Antioch Church":MAILTO:info@antiochchurchva.com
END:VEVENT
BEGIN:VEVENT
DTSTART;TZID=America/New_York:20260615T190000
DTEND;TZID=America/New_York:20260615T200000
DTSTAMP:20260423T141451
CREATED:20191218T145214Z
LAST-MODIFIED:20191218T145214Z
UID:1780-1781550000-1781553600@antiochchurchva.com
SUMMARY:Choir Practice
DESCRIPTION:If you’re interested in joining the choir\, please let Fuzzy know. His contact information will be provided below. If you’d like to watch our choir practice Monday evenings\, feel free to join us at 7PM!
URL:https://antiochchurchva.com/calendar/choir-practice-2026-06-15/
CATEGORIES:Choir Practice
ORGANIZER;CN="Antioch Church":MAILTO:info@antiochchurchva.com
END:VEVENT
BEGIN:VEVENT
DTSTART;TZID=America/New_York:20260622T190000
DTEND;TZID=America/New_York:20260622T200000
DTSTAMP:20260423T141451
CREATED:20191218T145214Z
LAST-MODIFIED:20191218T145214Z
UID:1781-1782154800-1782158400@antiochchurchva.com
SUMMARY:Choir Practice
DESCRIPTION:If you’re interested in joining the choir\, please let Fuzzy know. His contact information will be provided below. If you’d like to watch our choir practice Monday evenings\, feel free to join us at 7PM!
URL:https://antiochchurchva.com/calendar/choir-practice-2026-06-22/
CATEGORIES:Choir Practice
ORGANIZER;CN="Antioch Church":MAILTO:info@antiochchurchva.com
END:VEVENT
BEGIN:VEVENT
DTSTART;TZID=America/New_York:20260629T190000
DTEND;TZID=America/New_York:20260629T200000
DTSTAMP:20260423T141451
CREATED:20191218T145214Z
LAST-MODIFIED:20191218T145214Z
UID:1782-1782759600-1782763200@antiochchurchva.com
SUMMARY:Choir Practice
DESCRIPTION:If you’re interested in joining the choir\, please let Fuzzy know. His contact information will be provided below. If you’d like to watch our choir practice Monday evenings\, feel free to join us at 7PM!
URL:https://antiochchurchva.com/calendar/choir-practice-2026-06-29/
CATEGORIES:Choir Practice
ORGANIZER;CN="Antioch Church":MAILTO:info@antiochchurchva.com
END:VEVENT
BEGIN:VEVENT
DTSTART;TZID=America/New_York:20260706T190000
DTEND;TZID=America/New_York:20260706T200000
DTSTAMP:20260423T141451
CREATED:20191218T145214Z
LAST-MODIFIED:20191218T145214Z
UID:1783-1783364400-1783368000@antiochchurchva.com
SUMMARY:Choir Practice
DESCRIPTION:If you’re interested in joining the choir\, please let Fuzzy know. His contact information will be provided below. If you’d like to watch our choir practice Monday evenings\, feel free to join us at 7PM!
URL:https://antiochchurchva.com/calendar/choir-practice-2026-07-06/
CATEGORIES:Choir Practice
ORGANIZER;CN="Antioch Church":MAILTO:info@antiochchurchva.com
END:VEVENT
BEGIN:VEVENT
DTSTART;TZID=America/New_York:20260713T190000
DTEND;TZID=America/New_York:20260713T200000
DTSTAMP:20260423T141451
CREATED:20191218T145214Z
LAST-MODIFIED:20191218T145214Z
UID:1784-1783969200-1783972800@antiochchurchva.com
SUMMARY:Choir Practice
DESCRIPTION:If you’re interested in joining the choir\, please let Fuzzy know. His contact information will be provided below. If you’d like to watch our choir practice Monday evenings\, feel free to join us at 7PM!
URL:https://antiochchurchva.com/calendar/choir-practice-2026-07-13/
CATEGORIES:Choir Practice
ORGANIZER;CN="Antioch Church":MAILTO:info@antiochchurchva.com
END:VEVENT
BEGIN:VEVENT
DTSTART;TZID=America/New_York:20260720T190000
DTEND;TZID=America/New_York:20260720T200000
DTSTAMP:20260423T141451
CREATED:20191218T145214Z
LAST-MODIFIED:20191218T145214Z
UID:1785-1784574000-1784577600@antiochchurchva.com
SUMMARY:Choir Practice
DESCRIPTION:If you’re interested in joining the choir\, please let Fuzzy know. His contact information will be provided below. If you’d like to watch our choir practice Monday evenings\, feel free to join us at 7PM!
URL:https://antiochchurchva.com/calendar/choir-practice-2026-07-20/
CATEGORIES:Choir Practice
ORGANIZER;CN="Antioch Church":MAILTO:info@antiochchurchva.com
END:VEVENT
BEGIN:VEVENT
DTSTART;TZID=America/New_York:20260727T190000
DTEND;TZID=America/New_York:20260727T200000
DTSTAMP:20260423T141451
CREATED:20191218T145214Z
LAST-MODIFIED:20191218T145214Z
UID:1786-1785178800-1785182400@antiochchurchva.com
SUMMARY:Choir Practice
DESCRIPTION:If you’re interested in joining the choir\, please let Fuzzy know. His contact information will be provided below. If you’d like to watch our choir practice Monday evenings\, feel free to join us at 7PM!
URL:https://antiochchurchva.com/calendar/choir-practice-2026-07-27/
CATEGORIES:Choir Practice
ORGANIZER;CN="Antioch Church":MAILTO:info@antiochchurchva.com
END:VEVENT
BEGIN:VEVENT
DTSTART;TZID=America/New_York:20260803T190000
DTEND;TZID=America/New_York:20260803T200000
DTSTAMP:20260423T141451
CREATED:20191218T145214Z
LAST-MODIFIED:20191218T145214Z
UID:1787-1785783600-1785787200@antiochchurchva.com
SUMMARY:Choir Practice
DESCRIPTION:If you’re interested in joining the choir\, please let Fuzzy know. His contact information will be provided below. If you’d like to watch our choir practice Monday evenings\, feel free to join us at 7PM!
URL:https://antiochchurchva.com/calendar/choir-practice-2026-08-03/
CATEGORIES:Choir Practice
ORGANIZER;CN="Antioch Church":MAILTO:info@antiochchurchva.com
END:VEVENT
BEGIN:VEVENT
DTSTART;TZID=America/New_York:20260810T190000
DTEND;TZID=America/New_York:20260810T200000
DTSTAMP:20260423T141451
CREATED:20191218T145214Z
LAST-MODIFIED:20191218T145214Z
UID:1788-1786388400-1786392000@antiochchurchva.com
SUMMARY:Choir Practice
DESCRIPTION:If you’re interested in joining the choir\, please let Fuzzy know. His contact information will be provided below. If you’d like to watch our choir practice Monday evenings\, feel free to join us at 7PM!
URL:https://antiochchurchva.com/calendar/choir-practice-2026-08-10/
CATEGORIES:Choir Practice
ORGANIZER;CN="Antioch Church":MAILTO:info@antiochchurchva.com
END:VEVENT
BEGIN:VEVENT
DTSTART;TZID=America/New_York:20260817T190000
DTEND;TZID=America/New_York:20260817T200000
DTSTAMP:20260423T141451
CREATED:20191218T145214Z
LAST-MODIFIED:20191218T145214Z
UID:1789-1786993200-1786996800@antiochchurchva.com
SUMMARY:Choir Practice
DESCRIPTION:If you’re interested in joining the choir\, please let Fuzzy know. His contact information will be provided below. If you’d like to watch our choir practice Monday evenings\, feel free to join us at 7PM!
URL:https://antiochchurchva.com/calendar/choir-practice-2026-08-17/
CATEGORIES:Choir Practice
ORGANIZER;CN="Antioch Church":MAILTO:info@antiochchurchva.com
END:VEVENT
BEGIN:VEVENT
DTSTART;TZID=America/New_York:20260824T190000
DTEND;TZID=America/New_York:20260824T200000
DTSTAMP:20260423T141451
CREATED:20191218T145214Z
LAST-MODIFIED:20191218T145214Z
UID:1790-1787598000-1787601600@antiochchurchva.com
SUMMARY:Choir Practice
DESCRIPTION:If you’re interested in joining the choir\, please let Fuzzy know. His contact information will be provided below. If you’d like to watch our choir practice Monday evenings\, feel free to join us at 7PM!
URL:https://antiochchurchva.com/calendar/choir-practice-2026-08-24/
CATEGORIES:Choir Practice
ORGANIZER;CN="Antioch Church":MAILTO:info@antiochchurchva.com
END:VEVENT
BEGIN:VEVENT
DTSTART;TZID=America/New_York:20260831T190000
DTEND;TZID=America/New_York:20260831T200000
DTSTAMP:20260423T141451
CREATED:20191218T145214Z
LAST-MODIFIED:20191218T145214Z
UID:1791-1788202800-1788206400@antiochchurchva.com
SUMMARY:Choir Practice
DESCRIPTION:If you’re interested in joining the choir\, please let Fuzzy know. His contact information will be provided below. If you’d like to watch our choir practice Monday evenings\, feel free to join us at 7PM!
URL:https://antiochchurchva.com/calendar/choir-practice-2026-08-31/
CATEGORIES:Choir Practice
ORGANIZER;CN="Antioch Church":MAILTO:info@antiochchurchva.com
END:VEVENT
BEGIN:VEVENT
DTSTART;TZID=America/New_York:20260907T190000
DTEND;TZID=America/New_York:20260907T200000
DTSTAMP:20260423T141451
CREATED:20191218T145214Z
LAST-MODIFIED:20191218T145214Z
UID:1792-1788807600-1788811200@antiochchurchva.com
SUMMARY:Choir Practice
DESCRIPTION:If you’re interested in joining the choir\, please let Fuzzy know. His contact information will be provided below. If you’d like to watch our choir practice Monday evenings\, feel free to join us at 7PM!
URL:https://antiochchurchva.com/calendar/choir-practice-2026-09-07/
CATEGORIES:Choir Practice
ORGANIZER;CN="Antioch Church":MAILTO:info@antiochchurchva.com
END:VEVENT
BEGIN:VEVENT
DTSTART;TZID=America/New_York:20260914T190000
DTEND;TZID=America/New_York:20260914T200000
DTSTAMP:20260423T141451
CREATED:20191218T145214Z
LAST-MODIFIED:20191218T145214Z
UID:1793-1789412400-1789416000@antiochchurchva.com
SUMMARY:Choir Practice
DESCRIPTION:If you’re interested in joining the choir\, please let Fuzzy know. His contact information will be provided below. If you’d like to watch our choir practice Monday evenings\, feel free to join us at 7PM!
URL:https://antiochchurchva.com/calendar/choir-practice-2026-09-14/
CATEGORIES:Choir Practice
ORGANIZER;CN="Antioch Church":MAILTO:info@antiochchurchva.com
END:VEVENT
BEGIN:VEVENT
DTSTART;TZID=America/New_York:20260921T190000
DTEND;TZID=America/New_York:20260921T200000
DTSTAMP:20260423T141451
CREATED:20191218T145214Z
LAST-MODIFIED:20191218T145214Z
UID:1794-1790017200-1790020800@antiochchurchva.com
SUMMARY:Choir Practice
DESCRIPTION:If you’re interested in joining the choir\, please let Fuzzy know. His contact information will be provided below. If you’d like to watch our choir practice Monday evenings\, feel free to join us at 7PM!
URL:https://antiochchurchva.com/calendar/choir-practice-2026-09-21/
CATEGORIES:Choir Practice
ORGANIZER;CN="Antioch Church":MAILTO:info@antiochchurchva.com
END:VEVENT
BEGIN:VEVENT
DTSTART;TZID=America/New_York:20260928T190000
DTEND;TZID=America/New_York:20260928T200000
DTSTAMP:20260423T141451
CREATED:20191218T145214Z
LAST-MODIFIED:20191218T145214Z
UID:1795-1790622000-1790625600@antiochchurchva.com
SUMMARY:Choir Practice
DESCRIPTION:If you’re interested in joining the choir\, please let Fuzzy know. His contact information will be provided below. If you’d like to watch our choir practice Monday evenings\, feel free to join us at 7PM!
URL:https://antiochchurchva.com/calendar/choir-practice-2026-09-28/
CATEGORIES:Choir Practice
ORGANIZER;CN="Antioch Church":MAILTO:info@antiochchurchva.com
END:VEVENT
BEGIN:VEVENT
DTSTART;TZID=America/New_York:20261005T190000
DTEND;TZID=America/New_York:20261005T200000
DTSTAMP:20260423T141452
CREATED:20191218T145214Z
LAST-MODIFIED:20191218T145214Z
UID:1796-1791226800-1791230400@antiochchurchva.com
SUMMARY:Choir Practice
DESCRIPTION:If you’re interested in joining the choir\, please let Fuzzy know. His contact information will be provided below. If you’d like to watch our choir practice Monday evenings\, feel free to join us at 7PM!
URL:https://antiochchurchva.com/calendar/choir-practice-2026-10-05/
CATEGORIES:Choir Practice
ORGANIZER;CN="Antioch Church":MAILTO:info@antiochchurchva.com
END:VEVENT
BEGIN:VEVENT
DTSTART;TZID=America/New_York:20261012T190000
DTEND;TZID=America/New_York:20261012T200000
DTSTAMP:20260423T141452
CREATED:20191218T145214Z
LAST-MODIFIED:20191218T145214Z
UID:1797-1791831600-1791835200@antiochchurchva.com
SUMMARY:Choir Practice
DESCRIPTION:If you’re interested in joining the choir\, please let Fuzzy know. His contact information will be provided below. If you’d like to watch our choir practice Monday evenings\, feel free to join us at 7PM!
URL:https://antiochchurchva.com/calendar/choir-practice-2026-10-12/
CATEGORIES:Choir Practice
ORGANIZER;CN="Antioch Church":MAILTO:info@antiochchurchva.com
END:VEVENT
BEGIN:VEVENT
DTSTART;TZID=America/New_York:20261019T190000
DTEND;TZID=America/New_York:20261019T200000
DTSTAMP:20260423T141452
CREATED:20191218T145214Z
LAST-MODIFIED:20191218T145214Z
UID:1798-1792436400-1792440000@antiochchurchva.com
SUMMARY:Choir Practice
DESCRIPTION:If you’re interested in joining the choir\, please let Fuzzy know. His contact information will be provided below. If you’d like to watch our choir practice Monday evenings\, feel free to join us at 7PM!
URL:https://antiochchurchva.com/calendar/choir-practice-2026-10-19/
CATEGORIES:Choir Practice
ORGANIZER;CN="Antioch Church":MAILTO:info@antiochchurchva.com
END:VEVENT
BEGIN:VEVENT
DTSTART;TZID=America/New_York:20261026T190000
DTEND;TZID=America/New_York:20261026T200000
DTSTAMP:20260423T141452
CREATED:20191218T145214Z
LAST-MODIFIED:20191218T145214Z
UID:1799-1793041200-1793044800@antiochchurchva.com
SUMMARY:Choir Practice
DESCRIPTION:If you’re interested in joining the choir\, please let Fuzzy know. His contact information will be provided below. If you’d like to watch our choir practice Monday evenings\, feel free to join us at 7PM!
URL:https://antiochchurchva.com/calendar/choir-practice-2026-10-26/
CATEGORIES:Choir Practice
ORGANIZER;CN="Antioch Church":MAILTO:info@antiochchurchva.com
END:VEVENT
BEGIN:VEVENT
DTSTART;TZID=America/New_York:20261102T190000
DTEND;TZID=America/New_York:20261102T200000
DTSTAMP:20260423T141452
CREATED:20191218T145214Z
LAST-MODIFIED:20191218T145214Z
UID:1800-1793646000-1793649600@antiochchurchva.com
SUMMARY:Choir Practice
DESCRIPTION:If you’re interested in joining the choir\, please let Fuzzy know. His contact information will be provided below. If you’d like to watch our choir practice Monday evenings\, feel free to join us at 7PM!
URL:https://antiochchurchva.com/calendar/choir-practice-2026-11-02/
CATEGORIES:Choir Practice
ORGANIZER;CN="Antioch Church":MAILTO:info@antiochchurchva.com
END:VEVENT
END:VCALENDAR