BEGIN:VCALENDAR
VERSION:2.0
PRODID:-//Antioch Church - ECPv6.15.1.1//NONSGML v1.0//EN
CALSCALE:GREGORIAN
METHOD:PUBLISH
X-WR-CALNAME:Antioch Church
X-ORIGINAL-URL:https://antiochchurchva.com
X-WR-CALDESC:Events for Antioch Church
REFRESH-INTERVAL;VALUE=DURATION:PT1H
X-Robots-Tag:noindex
X-PUBLISHED-TTL:PT1H
BEGIN:VTIMEZONE
TZID:America/New_York
BEGIN:DAYLIGHT
TZOFFSETFROM:-0500
TZOFFSETTO:-0400
TZNAME:EDT
DTSTART:20200308T070000
END:DAYLIGHT
BEGIN:STANDARD
TZOFFSETFROM:-0400
TZOFFSETTO:-0500
TZNAME:EST
DTSTART:20201101T060000
END:STANDARD
BEGIN:DAYLIGHT
TZOFFSETFROM:-0500
TZOFFSETTO:-0400
TZNAME:EDT
DTSTART:20210314T070000
END:DAYLIGHT
BEGIN:STANDARD
TZOFFSETFROM:-0400
TZOFFSETTO:-0500
TZNAME:EST
DTSTART:20211107T060000
END:STANDARD
BEGIN:DAYLIGHT
TZOFFSETFROM:-0500
TZOFFSETTO:-0400
TZNAME:EDT
DTSTART:20220313T070000
END:DAYLIGHT
BEGIN:STANDARD
TZOFFSETFROM:-0400
TZOFFSETTO:-0500
TZNAME:EST
DTSTART:20221106T060000
END:STANDARD
BEGIN:DAYLIGHT
TZOFFSETFROM:-0500
TZOFFSETTO:-0400
TZNAME:EDT
DTSTART:20230312T070000
END:DAYLIGHT
BEGIN:STANDARD
TZOFFSETFROM:-0400
TZOFFSETTO:-0500
TZNAME:EST
DTSTART:20231105T060000
END:STANDARD
END:VTIMEZONE
BEGIN:VEVENT
DTSTART;TZID=America/New_York:20230227T190000
DTEND;TZID=America/New_York:20230227T200000
DTSTAMP:20260425T074706
CREATED:20191218T145214Z
LAST-MODIFIED:20191218T145214Z
UID:1472-1677524400-1677528000@antiochchurchva.com
SUMMARY:Choir Practice
DESCRIPTION:If you’re interested in joining the choir\, please let Fuzzy know. His contact information will be provided below. If you’d like to watch our choir practice Monday evenings\, feel free to join us at 7PM!
URL:https://antiochchurchva.com/calendar/choir-practice-2023-02-27/
CATEGORIES:Choir Practice
ORGANIZER;CN="Antioch Church":MAILTO:info@antiochchurchva.com
END:VEVENT
BEGIN:VEVENT
DTSTART;TZID=America/New_York:20230220T190000
DTEND;TZID=America/New_York:20230220T200000
DTSTAMP:20260425T074706
CREATED:20191218T145214Z
LAST-MODIFIED:20191218T145214Z
UID:1471-1676919600-1676923200@antiochchurchva.com
SUMMARY:Choir Practice
DESCRIPTION:If you’re interested in joining the choir\, please let Fuzzy know. His contact information will be provided below. If you’d like to watch our choir practice Monday evenings\, feel free to join us at 7PM!
URL:https://antiochchurchva.com/calendar/choir-practice-2023-02-20/
CATEGORIES:Choir Practice
ORGANIZER;CN="Antioch Church":MAILTO:info@antiochchurchva.com
END:VEVENT
BEGIN:VEVENT
DTSTART;TZID=America/New_York:20230213T190000
DTEND;TZID=America/New_York:20230213T200000
DTSTAMP:20260425T074706
CREATED:20191218T145214Z
LAST-MODIFIED:20191218T145214Z
UID:1466-1676314800-1676318400@antiochchurchva.com
SUMMARY:Choir Practice
DESCRIPTION:If you’re interested in joining the choir\, please let Fuzzy know. His contact information will be provided below. If you’d like to watch our choir practice Monday evenings\, feel free to join us at 7PM!
URL:https://antiochchurchva.com/calendar/choir-practice-2023-02-13/
CATEGORIES:Choir Practice
ORGANIZER;CN="Antioch Church":MAILTO:info@antiochchurchva.com
END:VEVENT
BEGIN:VEVENT
DTSTART;TZID=America/New_York:20230206T190000
DTEND;TZID=America/New_York:20230206T200000
DTSTAMP:20260425T074706
CREATED:20191218T145214Z
LAST-MODIFIED:20191218T145214Z
UID:1462-1675710000-1675713600@antiochchurchva.com
SUMMARY:Choir Practice
DESCRIPTION:If you’re interested in joining the choir\, please let Fuzzy know. His contact information will be provided below. If you’d like to watch our choir practice Monday evenings\, feel free to join us at 7PM!
URL:https://antiochchurchva.com/calendar/choir-practice-2023-02-06/
CATEGORIES:Choir Practice
ORGANIZER;CN="Antioch Church":MAILTO:info@antiochchurchva.com
END:VEVENT
BEGIN:VEVENT
DTSTART;TZID=America/New_York:20230130T190000
DTEND;TZID=America/New_York:20230130T200000
DTSTAMP:20260425T074706
CREATED:20191218T145214Z
LAST-MODIFIED:20191218T145214Z
UID:1455-1675105200-1675108800@antiochchurchva.com
SUMMARY:Choir Practice
DESCRIPTION:If you’re interested in joining the choir\, please let Fuzzy know. His contact information will be provided below. If you’d like to watch our choir practice Monday evenings\, feel free to join us at 7PM!
URL:https://antiochchurchva.com/calendar/choir-practice-2023-01-30/
CATEGORIES:Choir Practice
ORGANIZER;CN="Antioch Church":MAILTO:info@antiochchurchva.com
END:VEVENT
BEGIN:VEVENT
DTSTART;TZID=America/New_York:20230123T190000
DTEND;TZID=America/New_York:20230123T200000
DTSTAMP:20260425T074706
CREATED:20191218T145214Z
LAST-MODIFIED:20191218T145214Z
UID:1449-1674500400-1674504000@antiochchurchva.com
SUMMARY:Choir Practice
DESCRIPTION:If you’re interested in joining the choir\, please let Fuzzy know. His contact information will be provided below. If you’d like to watch our choir practice Monday evenings\, feel free to join us at 7PM!
URL:https://antiochchurchva.com/calendar/choir-practice-2023-01-23/
CATEGORIES:Choir Practice
ORGANIZER;CN="Antioch Church":MAILTO:info@antiochchurchva.com
END:VEVENT
BEGIN:VEVENT
DTSTART;VALUE=DATE:20201225
DTEND;VALUE=DATE:20201226
DTSTAMP:20260425T074706
CREATED:20200116T020324Z
LAST-MODIFIED:20200116T020324Z
UID:976-1608854400-1608940799@antiochchurchva.com
SUMMARY:Christmas
DESCRIPTION:
URL:https://antiochchurchva.com/calendar/christmas/
END:VEVENT
BEGIN:VEVENT
DTSTART;TZID=America/New_York:20201205T153000
DTEND;TZID=America/New_York:20201205T183000
DTSTAMP:20260425T074706
CREATED:20200129T230059Z
LAST-MODIFIED:20200129T230059Z
UID:1135-1607182200-1607193000@antiochchurchva.com
SUMMARY:Windsor Christmas Parade
DESCRIPTION:
URL:https://antiochchurchva.com/calendar/windsor-christmas-parade/
ORGANIZER;CN="Antioch Church":MAILTO:info@antiochchurchva.com
END:VEVENT
BEGIN:VEVENT
DTSTART;VALUE=DATE:20201018
DTEND;VALUE=DATE:20201019
DTSTAMP:20260425T074706
CREATED:20191220T153231Z
LAST-MODIFIED:20191220T153231Z
UID:727-1602979200-1603065599@antiochchurchva.com
SUMMARY:Quarterly Conference - Q4
DESCRIPTION:
URL:https://antiochchurchva.com/calendar/quarterly-conference-q4/
END:VEVENT
BEGIN:VEVENT
DTSTART;VALUE=DATE:20200719
DTEND;VALUE=DATE:20200720
DTSTAMP:20260425T074706
CREATED:20191220T153152Z
LAST-MODIFIED:20191220T153152Z
UID:725-1595116800-1595203199@antiochchurchva.com
SUMMARY:Quarterly Conference - Q3
DESCRIPTION:
URL:https://antiochchurchva.com/calendar/quarterly-conference-q3/
END:VEVENT
BEGIN:VEVENT
DTSTART;TZID=America/New_York:20200704T080000
DTEND;TZID=America/New_York:20200704T170000
DTSTAMP:20260425T074706
CREATED:20200116T020219Z
LAST-MODIFIED:20200116T020219Z
UID:974-1593849600-1593882000@antiochchurchva.com
SUMMARY:United States Birthday
DESCRIPTION:
URL:https://antiochchurchva.com/calendar/united-states-birthday/
END:VEVENT
BEGIN:VEVENT
DTSTART;TZID=America/New_York:20200522T183000
DTEND;TZID=America/New_York:20200522T203000
DTSTAMP:20260425T074706
CREATED:20200130T004733Z
LAST-MODIFIED:20200315T191657Z
UID:1139-1590172200-1590179400@antiochchurchva.com
SUMMARY:Movie Night
DESCRIPTION:https://antiochchurchva.com/wp-content/uploads/2020/01/Overcomer-Teaser-Trailer-YouTube-720p.mp4\nMovie night at Antioch Church! \nJoin us for our family friendly entertainment. We will provide snacks and drinks for intermission at no charge! The movie we will be viewing is Overcomer with the younger children watching Twas the Night Before Easter and a crafting activity.
URL:https://antiochchurchva.com/calendar/movie-night-2/
LOCATION:Antioch Church\, 23011 Antioch Road\, Windsor\, Virgina\, 23487
ATTACH;FMTTYPE=image/jpeg:https://antiochchurchva.com/wp-content/uploads/2020/01/overcomer.jpg
END:VEVENT
BEGIN:VEVENT
DTSTART;TZID=America/New_York:20200517T113000
DTEND;TZID=America/New_York:20200517T130000
DTSTAMP:20260425T074706
CREATED:20191220T153326Z
LAST-MODIFIED:20191220T153326Z
UID:729-1589715000-1589720400@antiochchurchva.com
SUMMARY:Antioch Memorial Sunday
DESCRIPTION:
URL:https://antiochchurchva.com/calendar/antioch-memorial-sunday/
END:VEVENT
BEGIN:VEVENT
DTSTART;TZID=America/New_York:20200423T113000
DTEND;TZID=America/New_York:20200423T130000
DTSTAMP:20260425T074706
CREATED:20200113T221822Z
LAST-MODIFIED:20200310T182940Z
UID:845-1587641400-1587646800@antiochchurchva.com
SUMMARY:Lunch Bunch (Widows group)
DESCRIPTION:The Lunch Bunch\, Antioch’s widow’s group\, usually meets the 4th Thursday of the month at a different restaurant in the area. The meeting location will be posted prior to the meeting. \n 
URL:https://antiochchurchva.com/calendar/lunch-bunch-widows-group-2020-04-23/
END:VEVENT
BEGIN:VEVENT
DTSTART;VALUE=DATE:20200419
DTEND;VALUE=DATE:20200420
DTSTAMP:20260425T074706
CREATED:20191220T153121Z
LAST-MODIFIED:20191220T153121Z
UID:723-1587254400-1587340799@antiochchurchva.com
SUMMARY:Quarterly Conference - Q2
DESCRIPTION:
URL:https://antiochchurchva.com/calendar/quarterly-conference-q2/
END:VEVENT
BEGIN:VEVENT
DTSTART;TZID=America/New_York:20200412T090000
DTEND;TZID=America/New_York:20200412T120000
DTSTAMP:20260425T074706
CREATED:20200109T013334Z
LAST-MODIFIED:20200304T204237Z
UID:815-1586682000-1586692800@antiochchurchva.com
SUMMARY:Easter
DESCRIPTION:Come join us. Christ has risen! \nBreakfast 9:15 \nWorship 10:30 \n 
URL:https://antiochchurchva.com/calendar/easter/
END:VEVENT
BEGIN:VEVENT
DTSTART;TZID=America/New_York:20200404T090000
DTEND;TZID=America/New_York:20200404T120000
DTSTAMP:20260425T074706
CREATED:20200130T005441Z
LAST-MODIFIED:20200304T203213Z
UID:1145-1585990800-1586001600@antiochchurchva.com
SUMMARY:Buildings & Grounds Workday
DESCRIPTION:
URL:https://antiochchurchva.com/calendar/buildings-grounds-workday/
LOCATION:Antioch Church\, 23011 Antioch Road\, Windsor\, Virgina\, 23487
END:VEVENT
BEGIN:VEVENT
DTSTART;TZID=America/New_York:20200402T190000
DTEND;TZID=America/New_York:20200402T190000
DTSTAMP:20260425T074706
CREATED:20200109T012709Z
LAST-MODIFIED:20200109T012709Z
UID:813-1585854000-1585854000@antiochchurchva.com
SUMMARY:Missions Committee Meeting
DESCRIPTION:The Missions Committee will be meeting to further the outreach of the Gospel Jesus Christ.
URL:https://antiochchurchva.com/calendar/missions-committee-meeting-2/
LOCATION:Carolyn Harrup\, Windsor
END:VEVENT
BEGIN:VEVENT
DTSTART;TZID=America/New_York:20200328T150000
DTEND;TZID=America/New_York:20200328T173000
DTSTAMP:20260425T074706
CREATED:20200130T004846Z
LAST-MODIFIED:20200304T203111Z
UID:1141-1585407600-1585416600@antiochchurchva.com
SUMMARY:AWANA Grand Prix
DESCRIPTION:AWANA GRAND PRIX \nWeigh in is at 3:30 pm \nRaces start at 4:00 pm \nChildren and Adult Races.  Cars cost $5.00.  Prizes awarded\, Pizza and Drinks.
URL:https://antiochchurchva.com/calendar/awana-grand-prix/
ORGANIZER;CN="Antioch Church":MAILTO:info@antiochchurchva.com
END:VEVENT
BEGIN:VEVENT
DTSTART;TZID=America/New_York:20200326T113000
DTEND;TZID=America/New_York:20200326T130000
DTSTAMP:20260425T074706
CREATED:20200113T221822Z
LAST-MODIFIED:20200310T181604Z
UID:844-1585222200-1585227600@antiochchurchva.com
SUMMARY:Lunch Bunch (Widows group)
DESCRIPTION:The Lunch Bunch\, Antioch’s widow’s group\, meets the 4th Thursday of the month at a different restaurant in the area. In January they are meeting at Taste of Smithfield\, located on Main Street in Smithfield Virginia. \n 
URL:https://antiochchurchva.com/calendar/lunch-bunch-widows-group-2020-03-26/
END:VEVENT
BEGIN:VEVENT
DTSTART;TZID=America/New_York:20200321T090000
DTEND;TZID=America/New_York:20200321T120000
DTSTAMP:20260425T074706
CREATED:20200130T005350Z
LAST-MODIFIED:20200304T203255Z
UID:1143-1584781200-1584792000@antiochchurchva.com
SUMMARY:Building & Grounds Work Day
DESCRIPTION:
URL:https://antiochchurchva.com/calendar/building-grounds-work-day/
LOCATION:Antioch Church\, 23011 Antioch Road\, Windsor\, Virgina\, 23487
END:VEVENT
BEGIN:VEVENT
DTSTART;TZID=America/New_York:20200320T080000
DTEND;TZID=America/New_York:20200320T170000
DTSTAMP:20260425T074706
CREATED:20200315T191955Z
LAST-MODIFIED:20200315T192039Z
UID:1360-1584691200-1584723600@antiochchurchva.com
SUMMARY:Movie Night
DESCRIPTION:Due to the recent proclamation by the state of Virginia not allowing groups of more than 100 the Movie night has been rescheduled to May 22nd.  We apologize for any inconvenience this may cause.
URL:https://antiochchurchva.com/calendar/movie-night-3/
END:VEVENT
BEGIN:VEVENT
DTSTART;TZID=America/New_York:20200308T093000
DTEND;TZID=America/New_York:20200308T123000
DTSTAMP:20260425T074706
CREATED:20200109T012458Z
LAST-MODIFIED:20200305T024335Z
UID:811-1583659800-1583670600@antiochchurchva.com
SUMMARY:Missionaries Brian & Brooke Johnson
DESCRIPTION:Missionaries Brian & Brooke Johnson and their four children will be visiting with us. Brian and Brooke will share their ministry with us in the 10:30 service. A love offering will be taken.
URL:https://antiochchurchva.com/calendar/missionaries-brian-brooke-johnson/
ATTACH;FMTTYPE=image/jpeg:https://antiochchurchva.com/wp-content/uploads/2020/01/image002.jpg
END:VEVENT
BEGIN:VEVENT
DTSTART;TZID=America/New_York:20200305T133000
DTEND;TZID=America/New_York:20200305T150000
DTSTAMP:20260425T074706
CREATED:20200304T202757Z
LAST-MODIFIED:20200304T202757Z
UID:1194-1583415000-1583420400@antiochchurchva.com
SUMMARY:Women's Bible Study
DESCRIPTION:WHICH ONE ARE YOU? \n>Knowledgeable Bible Scholar…. You’ve studied the Bible and know a lot\, but also know that knowledge of God is inexhaustible. \n>Learning Student…. You enjoy reading God’s Word and study some on your own. \n>Busy by-Stander…. You know you should and maybe you want to read and study the Bible but can’t seem to find the time or energy. \n>Puzzled Seeker…. Not sure you understand what it is all about but are curious. \n>Questioning Skeptic…. You doubt what so many are placing value in is truly valuable. \n“You cannot love what you do not know” (Jen Wilkin) \nNo matter which group you identify with\, God wants you to know Him better and to love Him more! You can learn about God from many sources\, but we want to study diligently from the one source that God Himself provided in order to know Him as He wants to be known. That way God will speak directly to you from His Word\, the Bible. \nSounds daunting doesn’t it? \nYes\, but Jen Wilkin\, in her book “Women of the Word”\, simplifies a method that helps us dig up\, prepare and digest God’s Truths on our own.\nThe Women of Antioch Church invite you to join us in this 10-week study.\nMeeting every 1st and 3rd Thursday of each month\nTime: 1:30-3:00 p.m.\nPlace: Antioch Church\, 23011 Antioch Rd\, Windsor\, VA\nStudying: “Women of the Word” (2019 edition) by Jen Wilkin\nCost: Books will be available to purchase for $8.00\nQuestions? Kyla Palmer 757-512-4902
URL:https://antiochchurchva.com/calendar/womens-bible-study-2/
ORGANIZER;CN="Kyla Palmer":MAILTO:kyla_palmer@ntm.org
END:VEVENT
BEGIN:VEVENT
DTSTART;TZID=America/New_York:20200227T113000
DTEND;TZID=America/New_York:20200227T130000
DTSTAMP:20260425T074706
CREATED:20200113T221822Z
LAST-MODIFIED:20200310T182615Z
UID:843-1582803000-1582808400@antiochchurchva.com
SUMMARY:Lunch Bunch (Widows group)
DESCRIPTION:The Lunch Bunch\, Antioch’s widow’s group\, meets the 4th Thursday of the month at a different restaurant in the area. In February they are meeting at Three Guys in Franklin. \n 
URL:https://antiochchurchva.com/calendar/lunch-bunch-widows-group-2020-02-27/
END:VEVENT
BEGIN:VEVENT
DTSTART;TZID=America/New_York:20200220T190000
DTEND;TZID=America/New_York:20200220T190000
DTSTAMP:20260425T074706
CREATED:20200113T222353Z
LAST-MODIFIED:20200113T222353Z
UID:866-1582225200-1582225200@antiochchurchva.com
SUMMARY:Deacons Meeting
DESCRIPTION:
URL:https://antiochchurchva.com/calendar/deacons-meeting-2/
LOCATION:Antioch Church\, 23011 Antioch Road\, Windsor\, Virgina\, 23487
END:VEVENT
BEGIN:VEVENT
DTSTART;VALUE=DATE:20200214
DTEND;VALUE=DATE:20200215
DTSTAMP:20260425T074706
CREATED:20200116T020024Z
LAST-MODIFIED:20200116T020024Z
UID:972-1581638400-1581724799@antiochchurchva.com
SUMMARY:Valentines Day
DESCRIPTION:
URL:https://antiochchurchva.com/calendar/valentines-day/
END:VEVENT
BEGIN:VEVENT
DTSTART;TZID=America/New_York:20200212T190000
DTEND;TZID=America/New_York:20200212T200000
DTSTAMP:20260425T074706
CREATED:20200116T015212Z
LAST-MODIFIED:20200120T185349Z
UID:892-1581534000-1581537600@antiochchurchva.com
SUMMARY:Mens Bible Study- Book of Ephesians
DESCRIPTION:The men will be studying Ephesians\, including some discussion of basic theology and doctrine.
URL:https://antiochchurchva.com/calendar/mens-bible-study-book-of-ephesians/
LOCATION:Antioch Church\, 23011 Antioch Road\, Windsor\, Virgina\, 23487
CATEGORIES:Mens Bible Study
ATTACH;FMTTYPE=image/png:https://antiochchurchva.com/wp-content/uploads/2020/01/ephesians.png
END:VEVENT
BEGIN:VEVENT
DTSTART;TZID=America/New_York:20200209T080000
DTEND;TZID=America/New_York:20200209T170000
DTSTAMP:20260425T074706
CREATED:20200109T012139Z
LAST-MODIFIED:20200109T012139Z
UID:809-1581235200-1581267600@antiochchurchva.com
SUMMARY:Missionaries Jon & Kristen Smedley
DESCRIPTION:Missionaries Jon & Kristen Smedley and their five children will be visiting with us February 9th.
URL:https://antiochchurchva.com/calendar/missionaries-jon-kristen-smedley/
LOCATION:Antioch Church\, 23011 Antioch Road\, Windsor\, Virgina\, 23487
END:VEVENT
BEGIN:VEVENT
DTSTART;TZID=America/New_York:20200205T183000
DTEND;TZID=America/New_York:20200205T200000
DTSTAMP:20260425T074706
CREATED:20200116T014704Z
LAST-MODIFIED:20200120T185709Z
UID:869-1580927400-1580932800@antiochchurchva.com
SUMMARY:Womens Bible Study-Women of the Word
DESCRIPTION:WHICH ONE ARE YOU? \n>Knowledgeable Bible Scholar…. You’ve studied the Bible and know a lot\, but also know that knowledge of God is inexhaustible. \n>Learning Student…. You enjoy reading God’s Word and study some on your own. \n>Busy by-Stander…. You know you should and maybe you want to read and study the Bible but can’t seem to find the time or energy. \n>Puzzled Seeker…. Not sure you understand what it is all about but are curious. \n>Questioning Skeptic…. You doubt what so many are placing value in is truly valuable. \n“You cannot love what you do not know” (Jen Wilkin) \nNo matter which group you identify with\, God wants you to know Him better and to love Him more! You can learn about God from many sources\, but we want to study diligently from the one source that God Himself provided in order to know Him as He wants to be known. That way God will speak directly to you from His Word\, the Bible. \nSounds daunting doesn’t it? \nYes\, but Jen Wilkin\, in her book “Women of the Word”\, simplifies a method that helps us dig up\, prepare and digest God’s Truths on our own.\nThe Women of Antioch Church invite you to join us in this 10-week study.\nStart Date: Wednesday\, February 5\, 2020\nmeeting every 1st and 3rd Wednesday of each month\nTime: 6:30-8:00 p.m.\nPlace: Antioch Church\, 23011 Antioch Rd\, Windsor\, VA\nStudying: “Women of the Word” (2019 edition) by Jen Wilkin\nCost: Books will be available to purchase for $8.00\nQuestions? Kyla Palmer 757-512-4902
URL:https://antiochchurchva.com/calendar/womens-bible-study-women-of-the-word/
LOCATION:Antioch Church\, 23011 Antioch Road\, Windsor\, Virgina\, 23487
CATEGORIES:Womens Bible Study
ATTACH;FMTTYPE=image/jpeg:https://antiochchurchva.com/wp-content/uploads/2020/01/women-of-the-word.jpg
ORGANIZER;CN="Kyla Palmer":MAILTO:kyla_palmer@ntm.org
END:VEVENT
END:VCALENDAR