BEGIN:VCALENDAR
VERSION:2.0
PRODID:-//Antioch Church - ECPv6.15.1.1//NONSGML v1.0//EN
CALSCALE:GREGORIAN
METHOD:PUBLISH
X-WR-CALNAME:Antioch Church
X-ORIGINAL-URL:https://antiochchurchva.com
X-WR-CALDESC:Events for Antioch Church
REFRESH-INTERVAL;VALUE=DURATION:PT1H
X-Robots-Tag:noindex
X-PUBLISHED-TTL:PT1H
BEGIN:VTIMEZONE
TZID:America/New_York
BEGIN:DAYLIGHT
TZOFFSETFROM:-0500
TZOFFSETTO:-0400
TZNAME:EDT
DTSTART:20190310T070000
END:DAYLIGHT
BEGIN:STANDARD
TZOFFSETFROM:-0400
TZOFFSETTO:-0500
TZNAME:EST
DTSTART:20191103T060000
END:STANDARD
END:VTIMEZONE
BEGIN:VTIMEZONE
TZID:UTC
BEGIN:STANDARD
TZOFFSETFROM:+0000
TZOFFSETTO:+0000
TZNAME:UTC
DTSTART:20190101T000000
END:STANDARD
END:VTIMEZONE
BEGIN:VTIMEZONE
TZID:Pacific/Norfolk
BEGIN:DAYLIGHT
TZOFFSETFROM:+1100
TZOFFSETTO:+1200
TZNAME:+12
DTSTART:20191005T150000
END:DAYLIGHT
END:VTIMEZONE
BEGIN:VEVENT
DTSTART;TZID=America/New_York:20191230T190000
DTEND;TZID=America/New_York:20191230T200000
DTSTAMP:20260425T062458
CREATED:20191220T152811Z
LAST-MODIFIED:20191220T152811Z
UID:718-1577732400-1577736000@antiochchurchva.com
SUMMARY:Choir Practice
DESCRIPTION:
URL:https://antiochchurchva.com/calendar/choir-practice-2/
LOCATION:Antioch Church\, 23011 Antioch Road\, Windsor\, Virgina\, 23487
CATEGORIES:Choir Practice
ORGANIZER;CN="Fuzzy Johnson":MAILTO:wjohnson66@verizon.net
END:VEVENT
BEGIN:VEVENT
DTSTART;VALUE=DATE:20191225
DTEND;VALUE=DATE:20191226
DTSTAMP:20260425T062458
CREATED:20191220T153520Z
LAST-MODIFIED:20191220T153650Z
UID:731-1577232000-1577318399@antiochchurchva.com
SUMMARY:Merry Christmas From Antioch Church
DESCRIPTION:
URL:https://antiochchurchva.com/calendar/merry-christmas-from-antioch-church/
END:VEVENT
BEGIN:VEVENT
DTSTART;TZID=UTC:20191223T173000
DTEND;TZID=UTC:20191223T183000
DTSTAMP:20260425T062458
CREATED:20191201T121749Z
LAST-MODIFIED:20200116T015639Z
UID:167-1577122200-1577125800@antiochchurchva.com
SUMMARY:Publicity Committee Meeting
DESCRIPTION:Publicity Committee meets every Monday evening to further benefit Antioch Church’s footprint in the digital and social media age. Lord willing Antioch church will bring in new members to Antioch.
URL:https://antiochchurchva.com/calendar/publicity-committee-meeting/
LOCATION:Antioch Church\, 23011 Antioch Road\, Windsor\, Virgina\, 23487
ORGANIZER;CN="Antioch Church":MAILTO:info@antiochchurchva.com
END:VEVENT
BEGIN:VEVENT
DTSTART;TZID=America/New_York:20191218T190000
DTEND;TZID=America/New_York:20191218T200000
DTSTAMP:20260425T062458
CREATED:20191218T145214Z
LAST-MODIFIED:20200315T190728Z
UID:311-1576695600-1576699200@antiochchurchva.com
SUMMARY:Choir Practice
DESCRIPTION:If you’re interested in joining the choir\, please let Fuzzy know. His contact information will be provided below. If you’d like to watch our choir practice Monday evenings\, feel free to join us at 7PM!
URL:https://antiochchurchva.com/calendar/choir-practice/
CATEGORIES:Choir Practice
ORGANIZER;CN="Antioch Church":MAILTO:info@antiochchurchva.com
END:VEVENT
BEGIN:VEVENT
DTSTART;TZID=Pacific/Norfolk:20191218T190000
DTEND;TZID=Pacific/Norfolk:20191218T200000
DTSTAMP:20260425T062458
CREATED:20191210T022035Z
LAST-MODIFIED:20191210T025207Z
UID:274-1576695600-1576699200@antiochchurchva.com
SUMMARY:Christmas Program
DESCRIPTION:We are excited to have you join us at Antioch Church to witness “The Best News Ever”! Light Refreshments are provided after the program. For further inquiries about the event\, please fill out the form below. \n \n\n\n\n\nName(required)\n\n	\n\n\nEmail(required)\n\n	\n\n\nWebsite\n\n	\n\n\nMessage\n\n	\n	\n		Submit
URL:https://antiochchurchva.com/calendar/christmas-program/
LOCATION:Antioch Church\, 23011 Antioch Road\, Windsor\, Virgina\, 23487
ORGANIZER;CN="Antioch Church":MAILTO:info@antiochchurchva.com
END:VEVENT
BEGIN:VEVENT
DTSTART;TZID=UTC:20191205T190000
DTEND;TZID=UTC:20191205T203000
DTSTAMP:20260425T062458
CREATED:20191201T223502Z
LAST-MODIFIED:20191201T223502Z
UID:201-1575572400-1575577800@antiochchurchva.com
SUMMARY:Deacons Meeting
DESCRIPTION:
URL:https://antiochchurchva.com/calendar/deacons-meeting/
LOCATION:Antioch Church\, 23011 Antioch Road\, Windsor\, Virgina\, 23487
ORGANIZER;CN="Shawn Palmer":MAILTO:shawn.d.palmer@gmail.com
END:VEVENT
END:VCALENDAR