BEGIN:VCALENDAR
VERSION:2.0
PRODID:-//Antioch Church - ECPv6.15.1.1//NONSGML v1.0//EN
CALSCALE:GREGORIAN
METHOD:PUBLISH
X-WR-CALNAME:Antioch Church
X-ORIGINAL-URL:https://antiochchurchva.com
X-WR-CALDESC:Events for Antioch Church
REFRESH-INTERVAL;VALUE=DURATION:PT1H
X-Robots-Tag:noindex
X-PUBLISHED-TTL:PT1H
BEGIN:VTIMEZONE
TZID:America/New_York
BEGIN:DAYLIGHT
TZOFFSETFROM:-0500
TZOFFSETTO:-0400
TZNAME:EDT
DTSTART:20240310T070000
END:DAYLIGHT
BEGIN:STANDARD
TZOFFSETFROM:-0400
TZOFFSETTO:-0500
TZNAME:EST
DTSTART:20241103T060000
END:STANDARD
END:VTIMEZONE
BEGIN:VEVENT
DTSTART;TZID=America/New_York:20241014T190000
DTEND;TZID=America/New_York:20241014T200000
DTSTAMP:20260424T082733
CREATED:20191218T145214Z
LAST-MODIFIED:20191218T145214Z
UID:1687-1728932400-1728936000@antiochchurchva.com
SUMMARY:Choir Practice
DESCRIPTION:If you’re interested in joining the choir\, please let Fuzzy know. His contact information will be provided below. If you’d like to watch our choir practice Monday evenings\, feel free to join us at 7PM!
URL:https://antiochchurchva.com/calendar/choir-practice-2024-10-14/
CATEGORIES:Choir Practice
ORGANIZER;CN="Antioch Church":MAILTO:info@antiochchurchva.com
END:VEVENT
BEGIN:VEVENT
DTSTART;TZID=America/New_York:20241007T190000
DTEND;TZID=America/New_York:20241007T200000
DTSTAMP:20260424T082733
CREATED:20191218T145214Z
LAST-MODIFIED:20191218T145214Z
UID:1686-1728327600-1728331200@antiochchurchva.com
SUMMARY:Choir Practice
DESCRIPTION:If you’re interested in joining the choir\, please let Fuzzy know. His contact information will be provided below. If you’d like to watch our choir practice Monday evenings\, feel free to join us at 7PM!
URL:https://antiochchurchva.com/calendar/choir-practice-2024-10-07/
CATEGORIES:Choir Practice
ORGANIZER;CN="Antioch Church":MAILTO:info@antiochchurchva.com
END:VEVENT
BEGIN:VEVENT
DTSTART;TZID=America/New_York:20240930T190000
DTEND;TZID=America/New_York:20240930T200000
DTSTAMP:20260424T082733
CREATED:20191218T145214Z
LAST-MODIFIED:20191218T145214Z
UID:1685-1727722800-1727726400@antiochchurchva.com
SUMMARY:Choir Practice
DESCRIPTION:If you’re interested in joining the choir\, please let Fuzzy know. His contact information will be provided below. If you’d like to watch our choir practice Monday evenings\, feel free to join us at 7PM!
URL:https://antiochchurchva.com/calendar/choir-practice-2024-09-30/
CATEGORIES:Choir Practice
ORGANIZER;CN="Antioch Church":MAILTO:info@antiochchurchva.com
END:VEVENT
BEGIN:VEVENT
DTSTART;TZID=America/New_York:20240923T190000
DTEND;TZID=America/New_York:20240923T200000
DTSTAMP:20260424T082733
CREATED:20191218T145214Z
LAST-MODIFIED:20191218T145214Z
UID:1684-1727118000-1727121600@antiochchurchva.com
SUMMARY:Choir Practice
DESCRIPTION:If you’re interested in joining the choir\, please let Fuzzy know. His contact information will be provided below. If you’d like to watch our choir practice Monday evenings\, feel free to join us at 7PM!
URL:https://antiochchurchva.com/calendar/choir-practice-2024-09-23/
CATEGORIES:Choir Practice
ORGANIZER;CN="Antioch Church":MAILTO:info@antiochchurchva.com
END:VEVENT
BEGIN:VEVENT
DTSTART;TZID=America/New_York:20240916T190000
DTEND;TZID=America/New_York:20240916T200000
DTSTAMP:20260424T082733
CREATED:20191218T145214Z
LAST-MODIFIED:20191218T145214Z
UID:1683-1726513200-1726516800@antiochchurchva.com
SUMMARY:Choir Practice
DESCRIPTION:If you’re interested in joining the choir\, please let Fuzzy know. His contact information will be provided below. If you’d like to watch our choir practice Monday evenings\, feel free to join us at 7PM!
URL:https://antiochchurchva.com/calendar/choir-practice-2024-09-16/
CATEGORIES:Choir Practice
ORGANIZER;CN="Antioch Church":MAILTO:info@antiochchurchva.com
END:VEVENT
BEGIN:VEVENT
DTSTART;TZID=America/New_York:20240909T190000
DTEND;TZID=America/New_York:20240909T200000
DTSTAMP:20260424T082733
CREATED:20191218T145214Z
LAST-MODIFIED:20191218T145214Z
UID:1682-1725908400-1725912000@antiochchurchva.com
SUMMARY:Choir Practice
DESCRIPTION:If you’re interested in joining the choir\, please let Fuzzy know. His contact information will be provided below. If you’d like to watch our choir practice Monday evenings\, feel free to join us at 7PM!
URL:https://antiochchurchva.com/calendar/choir-practice-2024-09-09/
CATEGORIES:Choir Practice
ORGANIZER;CN="Antioch Church":MAILTO:info@antiochchurchva.com
END:VEVENT
BEGIN:VEVENT
DTSTART;TZID=America/New_York:20240902T190000
DTEND;TZID=America/New_York:20240902T200000
DTSTAMP:20260424T082733
CREATED:20191218T145214Z
LAST-MODIFIED:20191218T145214Z
UID:1681-1725303600-1725307200@antiochchurchva.com
SUMMARY:Choir Practice
DESCRIPTION:If you’re interested in joining the choir\, please let Fuzzy know. His contact information will be provided below. If you’d like to watch our choir practice Monday evenings\, feel free to join us at 7PM!
URL:https://antiochchurchva.com/calendar/choir-practice-2024-09-02/
CATEGORIES:Choir Practice
ORGANIZER;CN="Antioch Church":MAILTO:info@antiochchurchva.com
END:VEVENT
BEGIN:VEVENT
DTSTART;TZID=America/New_York:20240826T190000
DTEND;TZID=America/New_York:20240826T200000
DTSTAMP:20260424T082733
CREATED:20191218T145214Z
LAST-MODIFIED:20191218T145214Z
UID:1680-1724698800-1724702400@antiochchurchva.com
SUMMARY:Choir Practice
DESCRIPTION:If you’re interested in joining the choir\, please let Fuzzy know. His contact information will be provided below. If you’d like to watch our choir practice Monday evenings\, feel free to join us at 7PM!
URL:https://antiochchurchva.com/calendar/choir-practice-2024-08-26/
CATEGORIES:Choir Practice
ORGANIZER;CN="Antioch Church":MAILTO:info@antiochchurchva.com
END:VEVENT
BEGIN:VEVENT
DTSTART;TZID=America/New_York:20240819T190000
DTEND;TZID=America/New_York:20240819T200000
DTSTAMP:20260424T082733
CREATED:20191218T145214Z
LAST-MODIFIED:20191218T145214Z
UID:1679-1724094000-1724097600@antiochchurchva.com
SUMMARY:Choir Practice
DESCRIPTION:If you’re interested in joining the choir\, please let Fuzzy know. His contact information will be provided below. If you’d like to watch our choir practice Monday evenings\, feel free to join us at 7PM!
URL:https://antiochchurchva.com/calendar/choir-practice-2024-08-19/
CATEGORIES:Choir Practice
ORGANIZER;CN="Antioch Church":MAILTO:info@antiochchurchva.com
END:VEVENT
BEGIN:VEVENT
DTSTART;TZID=America/New_York:20240812T190000
DTEND;TZID=America/New_York:20240812T200000
DTSTAMP:20260424T082733
CREATED:20191218T145214Z
LAST-MODIFIED:20191218T145214Z
UID:1678-1723489200-1723492800@antiochchurchva.com
SUMMARY:Choir Practice
DESCRIPTION:If you’re interested in joining the choir\, please let Fuzzy know. His contact information will be provided below. If you’d like to watch our choir practice Monday evenings\, feel free to join us at 7PM!
URL:https://antiochchurchva.com/calendar/choir-practice-2024-08-12/
CATEGORIES:Choir Practice
ORGANIZER;CN="Antioch Church":MAILTO:info@antiochchurchva.com
END:VEVENT
BEGIN:VEVENT
DTSTART;TZID=America/New_York:20240805T190000
DTEND;TZID=America/New_York:20240805T200000
DTSTAMP:20260424T082733
CREATED:20191218T145214Z
LAST-MODIFIED:20191218T145214Z
UID:1676-1722884400-1722888000@antiochchurchva.com
SUMMARY:Choir Practice
DESCRIPTION:If you’re interested in joining the choir\, please let Fuzzy know. His contact information will be provided below. If you’d like to watch our choir practice Monday evenings\, feel free to join us at 7PM!
URL:https://antiochchurchva.com/calendar/choir-practice-2024-08-05/
CATEGORIES:Choir Practice
ORGANIZER;CN="Antioch Church":MAILTO:info@antiochchurchva.com
END:VEVENT
BEGIN:VEVENT
DTSTART;TZID=America/New_York:20240729T190000
DTEND;TZID=America/New_York:20240729T200000
DTSTAMP:20260424T082733
CREATED:20191218T145214Z
LAST-MODIFIED:20191218T145214Z
UID:1675-1722279600-1722283200@antiochchurchva.com
SUMMARY:Choir Practice
DESCRIPTION:If you’re interested in joining the choir\, please let Fuzzy know. His contact information will be provided below. If you’d like to watch our choir practice Monday evenings\, feel free to join us at 7PM!
URL:https://antiochchurchva.com/calendar/choir-practice-2024-07-29/
CATEGORIES:Choir Practice
ORGANIZER;CN="Antioch Church":MAILTO:info@antiochchurchva.com
END:VEVENT
BEGIN:VEVENT
DTSTART;TZID=America/New_York:20240722T190000
DTEND;TZID=America/New_York:20240722T200000
DTSTAMP:20260424T082733
CREATED:20191218T145214Z
LAST-MODIFIED:20191218T145214Z
UID:1674-1721674800-1721678400@antiochchurchva.com
SUMMARY:Choir Practice
DESCRIPTION:If you’re interested in joining the choir\, please let Fuzzy know. His contact information will be provided below. If you’d like to watch our choir practice Monday evenings\, feel free to join us at 7PM!
URL:https://antiochchurchva.com/calendar/choir-practice-2024-07-22/
CATEGORIES:Choir Practice
ORGANIZER;CN="Antioch Church":MAILTO:info@antiochchurchva.com
END:VEVENT
BEGIN:VEVENT
DTSTART;TZID=America/New_York:20240715T190000
DTEND;TZID=America/New_York:20240715T200000
DTSTAMP:20260424T082733
CREATED:20191218T145214Z
LAST-MODIFIED:20191218T145214Z
UID:1673-1721070000-1721073600@antiochchurchva.com
SUMMARY:Choir Practice
DESCRIPTION:If you’re interested in joining the choir\, please let Fuzzy know. His contact information will be provided below. If you’d like to watch our choir practice Monday evenings\, feel free to join us at 7PM!
URL:https://antiochchurchva.com/calendar/choir-practice-2024-07-15/
CATEGORIES:Choir Practice
ORGANIZER;CN="Antioch Church":MAILTO:info@antiochchurchva.com
END:VEVENT
BEGIN:VEVENT
DTSTART;TZID=America/New_York:20240708T190000
DTEND;TZID=America/New_York:20240708T200000
DTSTAMP:20260424T082733
CREATED:20191218T145214Z
LAST-MODIFIED:20191218T145214Z
UID:1672-1720465200-1720468800@antiochchurchva.com
SUMMARY:Choir Practice
DESCRIPTION:If you’re interested in joining the choir\, please let Fuzzy know. His contact information will be provided below. If you’d like to watch our choir practice Monday evenings\, feel free to join us at 7PM!
URL:https://antiochchurchva.com/calendar/choir-practice-2024-07-08/
CATEGORIES:Choir Practice
ORGANIZER;CN="Antioch Church":MAILTO:info@antiochchurchva.com
END:VEVENT
BEGIN:VEVENT
DTSTART;TZID=America/New_York:20240701T190000
DTEND;TZID=America/New_York:20240701T200000
DTSTAMP:20260424T082733
CREATED:20191218T145214Z
LAST-MODIFIED:20191218T145214Z
UID:1671-1719860400-1719864000@antiochchurchva.com
SUMMARY:Choir Practice
DESCRIPTION:If you’re interested in joining the choir\, please let Fuzzy know. His contact information will be provided below. If you’d like to watch our choir practice Monday evenings\, feel free to join us at 7PM!
URL:https://antiochchurchva.com/calendar/choir-practice-2024-07-01/
CATEGORIES:Choir Practice
ORGANIZER;CN="Antioch Church":MAILTO:info@antiochchurchva.com
END:VEVENT
BEGIN:VEVENT
DTSTART;TZID=America/New_York:20240624T190000
DTEND;TZID=America/New_York:20240624T200000
DTSTAMP:20260424T082733
CREATED:20191218T145214Z
LAST-MODIFIED:20191218T145214Z
UID:1670-1719255600-1719259200@antiochchurchva.com
SUMMARY:Choir Practice
DESCRIPTION:If you’re interested in joining the choir\, please let Fuzzy know. His contact information will be provided below. If you’d like to watch our choir practice Monday evenings\, feel free to join us at 7PM!
URL:https://antiochchurchva.com/calendar/choir-practice-2024-06-24/
CATEGORIES:Choir Practice
ORGANIZER;CN="Antioch Church":MAILTO:info@antiochchurchva.com
END:VEVENT
BEGIN:VEVENT
DTSTART;TZID=America/New_York:20240617T190000
DTEND;TZID=America/New_York:20240617T200000
DTSTAMP:20260424T082733
CREATED:20191218T145214Z
LAST-MODIFIED:20191218T145214Z
UID:1669-1718650800-1718654400@antiochchurchva.com
SUMMARY:Choir Practice
DESCRIPTION:If you’re interested in joining the choir\, please let Fuzzy know. His contact information will be provided below. If you’d like to watch our choir practice Monday evenings\, feel free to join us at 7PM!
URL:https://antiochchurchva.com/calendar/choir-practice-2024-06-17/
CATEGORIES:Choir Practice
ORGANIZER;CN="Antioch Church":MAILTO:info@antiochchurchva.com
END:VEVENT
BEGIN:VEVENT
DTSTART;TZID=America/New_York:20240610T190000
DTEND;TZID=America/New_York:20240610T200000
DTSTAMP:20260424T082733
CREATED:20191218T145214Z
LAST-MODIFIED:20191218T145214Z
UID:1668-1718046000-1718049600@antiochchurchva.com
SUMMARY:Choir Practice
DESCRIPTION:If you’re interested in joining the choir\, please let Fuzzy know. His contact information will be provided below. If you’d like to watch our choir practice Monday evenings\, feel free to join us at 7PM!
URL:https://antiochchurchva.com/calendar/choir-practice-2024-06-10/
CATEGORIES:Choir Practice
ORGANIZER;CN="Antioch Church":MAILTO:info@antiochchurchva.com
END:VEVENT
BEGIN:VEVENT
DTSTART;TZID=America/New_York:20240603T190000
DTEND;TZID=America/New_York:20240603T200000
DTSTAMP:20260424T082733
CREATED:20191218T145214Z
LAST-MODIFIED:20191218T145214Z
UID:1665-1717441200-1717444800@antiochchurchva.com
SUMMARY:Choir Practice
DESCRIPTION:If you’re interested in joining the choir\, please let Fuzzy know. His contact information will be provided below. If you’d like to watch our choir practice Monday evenings\, feel free to join us at 7PM!
URL:https://antiochchurchva.com/calendar/choir-practice-2024-06-03/
CATEGORIES:Choir Practice
ORGANIZER;CN="Antioch Church":MAILTO:info@antiochchurchva.com
END:VEVENT
BEGIN:VEVENT
DTSTART;TZID=America/New_York:20240527T190000
DTEND;TZID=America/New_York:20240527T200000
DTSTAMP:20260424T082733
CREATED:20191218T145214Z
LAST-MODIFIED:20191218T145214Z
UID:1664-1716836400-1716840000@antiochchurchva.com
SUMMARY:Choir Practice
DESCRIPTION:If you’re interested in joining the choir\, please let Fuzzy know. His contact information will be provided below. If you’d like to watch our choir practice Monday evenings\, feel free to join us at 7PM!
URL:https://antiochchurchva.com/calendar/choir-practice-2024-05-27/
CATEGORIES:Choir Practice
ORGANIZER;CN="Antioch Church":MAILTO:info@antiochchurchva.com
END:VEVENT
BEGIN:VEVENT
DTSTART;TZID=America/New_York:20240520T190000
DTEND;TZID=America/New_York:20240520T200000
DTSTAMP:20260424T082733
CREATED:20191218T145214Z
LAST-MODIFIED:20191218T145214Z
UID:1663-1716231600-1716235200@antiochchurchva.com
SUMMARY:Choir Practice
DESCRIPTION:If you’re interested in joining the choir\, please let Fuzzy know. His contact information will be provided below. If you’d like to watch our choir practice Monday evenings\, feel free to join us at 7PM!
URL:https://antiochchurchva.com/calendar/choir-practice-2024-05-20/
CATEGORIES:Choir Practice
ORGANIZER;CN="Antioch Church":MAILTO:info@antiochchurchva.com
END:VEVENT
BEGIN:VEVENT
DTSTART;TZID=America/New_York:20240513T190000
DTEND;TZID=America/New_York:20240513T200000
DTSTAMP:20260424T082733
CREATED:20191218T145214Z
LAST-MODIFIED:20191218T145214Z
UID:1662-1715626800-1715630400@antiochchurchva.com
SUMMARY:Choir Practice
DESCRIPTION:If you’re interested in joining the choir\, please let Fuzzy know. His contact information will be provided below. If you’d like to watch our choir practice Monday evenings\, feel free to join us at 7PM!
URL:https://antiochchurchva.com/calendar/choir-practice-2024-05-13/
CATEGORIES:Choir Practice
ORGANIZER;CN="Antioch Church":MAILTO:info@antiochchurchva.com
END:VEVENT
BEGIN:VEVENT
DTSTART;TZID=America/New_York:20240506T190000
DTEND;TZID=America/New_York:20240506T200000
DTSTAMP:20260424T082733
CREATED:20191218T145214Z
LAST-MODIFIED:20191218T145214Z
UID:1661-1715022000-1715025600@antiochchurchva.com
SUMMARY:Choir Practice
DESCRIPTION:If you’re interested in joining the choir\, please let Fuzzy know. His contact information will be provided below. If you’d like to watch our choir practice Monday evenings\, feel free to join us at 7PM!
URL:https://antiochchurchva.com/calendar/choir-practice-2024-05-06/
CATEGORIES:Choir Practice
ORGANIZER;CN="Antioch Church":MAILTO:info@antiochchurchva.com
END:VEVENT
BEGIN:VEVENT
DTSTART;TZID=America/New_York:20240429T190000
DTEND;TZID=America/New_York:20240429T200000
DTSTAMP:20260424T082733
CREATED:20191218T145214Z
LAST-MODIFIED:20191218T145214Z
UID:1660-1714417200-1714420800@antiochchurchva.com
SUMMARY:Choir Practice
DESCRIPTION:If you’re interested in joining the choir\, please let Fuzzy know. His contact information will be provided below. If you’d like to watch our choir practice Monday evenings\, feel free to join us at 7PM!
URL:https://antiochchurchva.com/calendar/choir-practice-2024-04-29/
CATEGORIES:Choir Practice
ORGANIZER;CN="Antioch Church":MAILTO:info@antiochchurchva.com
END:VEVENT
BEGIN:VEVENT
DTSTART;TZID=America/New_York:20240422T190000
DTEND;TZID=America/New_York:20240422T200000
DTSTAMP:20260424T082733
CREATED:20191218T145214Z
LAST-MODIFIED:20191218T145214Z
UID:1659-1713812400-1713816000@antiochchurchva.com
SUMMARY:Choir Practice
DESCRIPTION:If you’re interested in joining the choir\, please let Fuzzy know. His contact information will be provided below. If you’d like to watch our choir practice Monday evenings\, feel free to join us at 7PM!
URL:https://antiochchurchva.com/calendar/choir-practice-2024-04-22/
CATEGORIES:Choir Practice
ORGANIZER;CN="Antioch Church":MAILTO:info@antiochchurchva.com
END:VEVENT
BEGIN:VEVENT
DTSTART;TZID=America/New_York:20240415T190000
DTEND;TZID=America/New_York:20240415T200000
DTSTAMP:20260424T082733
CREATED:20191218T145214Z
LAST-MODIFIED:20191218T145214Z
UID:1658-1713207600-1713211200@antiochchurchva.com
SUMMARY:Choir Practice
DESCRIPTION:If you’re interested in joining the choir\, please let Fuzzy know. His contact information will be provided below. If you’d like to watch our choir practice Monday evenings\, feel free to join us at 7PM!
URL:https://antiochchurchva.com/calendar/choir-practice-2024-04-15/
CATEGORIES:Choir Practice
ORGANIZER;CN="Antioch Church":MAILTO:info@antiochchurchva.com
END:VEVENT
BEGIN:VEVENT
DTSTART;TZID=America/New_York:20240408T190000
DTEND;TZID=America/New_York:20240408T200000
DTSTAMP:20260424T082733
CREATED:20191218T145214Z
LAST-MODIFIED:20191218T145214Z
UID:1657-1712602800-1712606400@antiochchurchva.com
SUMMARY:Choir Practice
DESCRIPTION:If you’re interested in joining the choir\, please let Fuzzy know. His contact information will be provided below. If you’d like to watch our choir practice Monday evenings\, feel free to join us at 7PM!
URL:https://antiochchurchva.com/calendar/choir-practice-2024-04-08/
CATEGORIES:Choir Practice
ORGANIZER;CN="Antioch Church":MAILTO:info@antiochchurchva.com
END:VEVENT
BEGIN:VEVENT
DTSTART;TZID=America/New_York:20240401T190000
DTEND;TZID=America/New_York:20240401T200000
DTSTAMP:20260424T082733
CREATED:20191218T145214Z
LAST-MODIFIED:20191218T145214Z
UID:1656-1711998000-1712001600@antiochchurchva.com
SUMMARY:Choir Practice
DESCRIPTION:If you’re interested in joining the choir\, please let Fuzzy know. His contact information will be provided below. If you’d like to watch our choir practice Monday evenings\, feel free to join us at 7PM!
URL:https://antiochchurchva.com/calendar/choir-practice-2024-04-01/
CATEGORIES:Choir Practice
ORGANIZER;CN="Antioch Church":MAILTO:info@antiochchurchva.com
END:VEVENT
BEGIN:VEVENT
DTSTART;TZID=America/New_York:20240325T190000
DTEND;TZID=America/New_York:20240325T200000
DTSTAMP:20260424T082733
CREATED:20191218T145214Z
LAST-MODIFIED:20191218T145214Z
UID:1655-1711393200-1711396800@antiochchurchva.com
SUMMARY:Choir Practice
DESCRIPTION:If you’re interested in joining the choir\, please let Fuzzy know. His contact information will be provided below. If you’d like to watch our choir practice Monday evenings\, feel free to join us at 7PM!
URL:https://antiochchurchva.com/calendar/choir-practice-2024-03-25/
CATEGORIES:Choir Practice
ORGANIZER;CN="Antioch Church":MAILTO:info@antiochchurchva.com
END:VEVENT
END:VCALENDAR