BEGIN:VCALENDAR
VERSION:2.0
PRODID:-//Antioch Church - ECPv6.15.1.1//NONSGML v1.0//EN
CALSCALE:GREGORIAN
METHOD:PUBLISH
X-WR-CALNAME:Antioch Church
X-ORIGINAL-URL:https://antiochchurchva.com
X-WR-CALDESC:Events for Antioch Church
REFRESH-INTERVAL;VALUE=DURATION:PT1H
X-Robots-Tag:noindex
X-PUBLISHED-TTL:PT1H
BEGIN:VTIMEZONE
TZID:America/New_York
BEGIN:DAYLIGHT
TZOFFSETFROM:-0500
TZOFFSETTO:-0400
TZNAME:EDT
DTSTART:20260308T070000
END:DAYLIGHT
BEGIN:STANDARD
TZOFFSETFROM:-0400
TZOFFSETTO:-0500
TZNAME:EST
DTSTART:20261101T060000
END:STANDARD
BEGIN:DAYLIGHT
TZOFFSETFROM:-0500
TZOFFSETTO:-0400
TZNAME:EDT
DTSTART:20270314T070000
END:DAYLIGHT
BEGIN:STANDARD
TZOFFSETFROM:-0400
TZOFFSETTO:-0500
TZNAME:EST
DTSTART:20271107T060000
END:STANDARD
END:VTIMEZONE
BEGIN:VEVENT
DTSTART;TZID=America/New_York:20261123T190000
DTEND;TZID=America/New_York:20261123T200000
DTSTAMP:20260423T202735
CREATED:20191218T145214Z
LAST-MODIFIED:20191218T145214Z
UID:1803-1795460400-1795464000@antiochchurchva.com
SUMMARY:Choir Practice
DESCRIPTION:If you’re interested in joining the choir\, please let Fuzzy know. His contact information will be provided below. If you’d like to watch our choir practice Monday evenings\, feel free to join us at 7PM!
URL:https://antiochchurchva.com/calendar/choir-practice-2026-11-23/
CATEGORIES:Choir Practice
ORGANIZER;CN="Antioch Church":MAILTO:info@antiochchurchva.com
END:VEVENT
BEGIN:VEVENT
DTSTART;TZID=America/New_York:20261130T190000
DTEND;TZID=America/New_York:20261130T200000
DTSTAMP:20260423T202735
CREATED:20191218T145214Z
LAST-MODIFIED:20191218T145214Z
UID:1804-1796065200-1796068800@antiochchurchva.com
SUMMARY:Choir Practice
DESCRIPTION:If you’re interested in joining the choir\, please let Fuzzy know. His contact information will be provided below. If you’d like to watch our choir practice Monday evenings\, feel free to join us at 7PM!
URL:https://antiochchurchva.com/calendar/choir-practice-2026-11-30/
CATEGORIES:Choir Practice
ORGANIZER;CN="Antioch Church":MAILTO:info@antiochchurchva.com
END:VEVENT
BEGIN:VEVENT
DTSTART;TZID=America/New_York:20261207T190000
DTEND;TZID=America/New_York:20261207T200000
DTSTAMP:20260423T202735
CREATED:20191218T145214Z
LAST-MODIFIED:20191218T145214Z
UID:1805-1796670000-1796673600@antiochchurchva.com
SUMMARY:Choir Practice
DESCRIPTION:If you’re interested in joining the choir\, please let Fuzzy know. His contact information will be provided below. If you’d like to watch our choir practice Monday evenings\, feel free to join us at 7PM!
URL:https://antiochchurchva.com/calendar/choir-practice-2026-12-07/
CATEGORIES:Choir Practice
ORGANIZER;CN="Antioch Church":MAILTO:info@antiochchurchva.com
END:VEVENT
BEGIN:VEVENT
DTSTART;TZID=America/New_York:20261214T190000
DTEND;TZID=America/New_York:20261214T200000
DTSTAMP:20260423T202735
CREATED:20191218T145214Z
LAST-MODIFIED:20191218T145214Z
UID:1806-1797274800-1797278400@antiochchurchva.com
SUMMARY:Choir Practice
DESCRIPTION:If you’re interested in joining the choir\, please let Fuzzy know. His contact information will be provided below. If you’d like to watch our choir practice Monday evenings\, feel free to join us at 7PM!
URL:https://antiochchurchva.com/calendar/choir-practice-2026-12-14/
CATEGORIES:Choir Practice
ORGANIZER;CN="Antioch Church":MAILTO:info@antiochchurchva.com
END:VEVENT
BEGIN:VEVENT
DTSTART;TZID=America/New_York:20261221T190000
DTEND;TZID=America/New_York:20261221T200000
DTSTAMP:20260423T202735
CREATED:20191218T145214Z
LAST-MODIFIED:20191218T145214Z
UID:1807-1797879600-1797883200@antiochchurchva.com
SUMMARY:Choir Practice
DESCRIPTION:If you’re interested in joining the choir\, please let Fuzzy know. His contact information will be provided below. If you’d like to watch our choir practice Monday evenings\, feel free to join us at 7PM!
URL:https://antiochchurchva.com/calendar/choir-practice-2026-12-21/
CATEGORIES:Choir Practice
ORGANIZER;CN="Antioch Church":MAILTO:info@antiochchurchva.com
END:VEVENT
BEGIN:VEVENT
DTSTART;TZID=America/New_York:20261228T190000
DTEND;TZID=America/New_York:20261228T200000
DTSTAMP:20260423T202735
CREATED:20191218T145214Z
LAST-MODIFIED:20191218T145214Z
UID:1808-1798484400-1798488000@antiochchurchva.com
SUMMARY:Choir Practice
DESCRIPTION:If you’re interested in joining the choir\, please let Fuzzy know. His contact information will be provided below. If you’d like to watch our choir practice Monday evenings\, feel free to join us at 7PM!
URL:https://antiochchurchva.com/calendar/choir-practice-2026-12-28/
CATEGORIES:Choir Practice
ORGANIZER;CN="Antioch Church":MAILTO:info@antiochchurchva.com
END:VEVENT
BEGIN:VEVENT
DTSTART;TZID=America/New_York:20270104T190000
DTEND;TZID=America/New_York:20270104T200000
DTSTAMP:20260423T202735
CREATED:20191218T145214Z
LAST-MODIFIED:20191218T145214Z
UID:1809-1799089200-1799092800@antiochchurchva.com
SUMMARY:Choir Practice
DESCRIPTION:If you’re interested in joining the choir\, please let Fuzzy know. His contact information will be provided below. If you’d like to watch our choir practice Monday evenings\, feel free to join us at 7PM!
URL:https://antiochchurchva.com/calendar/choir-practice-2027-01-04/
CATEGORIES:Choir Practice
ORGANIZER;CN="Antioch Church":MAILTO:info@antiochchurchva.com
END:VEVENT
BEGIN:VEVENT
DTSTART;TZID=America/New_York:20270111T190000
DTEND;TZID=America/New_York:20270111T200000
DTSTAMP:20260423T202735
CREATED:20191218T145214Z
LAST-MODIFIED:20191218T145214Z
UID:1810-1799694000-1799697600@antiochchurchva.com
SUMMARY:Choir Practice
DESCRIPTION:If you’re interested in joining the choir\, please let Fuzzy know. His contact information will be provided below. If you’d like to watch our choir practice Monday evenings\, feel free to join us at 7PM!
URL:https://antiochchurchva.com/calendar/choir-practice-2027-01-11/
CATEGORIES:Choir Practice
ORGANIZER;CN="Antioch Church":MAILTO:info@antiochchurchva.com
END:VEVENT
BEGIN:VEVENT
DTSTART;TZID=America/New_York:20270118T190000
DTEND;TZID=America/New_York:20270118T200000
DTSTAMP:20260423T202735
CREATED:20191218T145214Z
LAST-MODIFIED:20191218T145214Z
UID:1811-1800298800-1800302400@antiochchurchva.com
SUMMARY:Choir Practice
DESCRIPTION:If you’re interested in joining the choir\, please let Fuzzy know. His contact information will be provided below. If you’d like to watch our choir practice Monday evenings\, feel free to join us at 7PM!
URL:https://antiochchurchva.com/calendar/choir-practice-2027-01-18/
CATEGORIES:Choir Practice
ORGANIZER;CN="Antioch Church":MAILTO:info@antiochchurchva.com
END:VEVENT
END:VCALENDAR